BEGIN:VCALENDAR
VERSION:2.0
PRODID:-//Wijkstichting Oss-Zuid//NONSGML kigkonsult.se iCalcreator 2.41.92//
CALSCALE:GREGORIAN
METHOD:PUBLISH
UID:34653337-3965-4364-b433-303837643639
X-WR-CALNAME:iCagenda
X-WR-CALDESC:Event Management Extension for Joomla!
X-WR-RELCALID:3E26604A-50F4-4449-8B3E-E4F4932D05B5
X-WR-TIMEZONE:Europe/Amsterdam
BEGIN:VTIMEZONE
TZID:Europe/Amsterdam
TZUNTIL:20271031T010000Z
BEGIN:STANDARD
TZNAME:CET
DTSTART:20251026T030000
TZOFFSETFROM:+0200
TZOFFSETTO:+0100
RDATE:20261025T030000
END:STANDARD
BEGIN:DAYLIGHT
TZNAME:CEST
DTSTART:20250330T020000
TZOFFSETFROM:+0100
TZOFFSETTO:+0200
RDATE:20260329T020000
RDATE:20270328T020000
END:DAYLIGHT
END:VTIMEZONE
BEGIN:VEVENT
UID:34306565-3935-4062-b538-346163323330
DTSTAMP:20260425T155224Z
CATEGORIES:Wijkstichting
CLASS:PUBLIC
DESCRIPTION;ALTREP="CID:<FFFF__=0ABBE548DFE235B58f9e8a93d@coffeebean.com>":
 Kerstviering houden met kinderen o.a. Kerststukjes maken in en voor de St.
  Jozef Kerk. Diverse activiteiten.&nbsp\; Markt van half twee tot half vij
 f\, vanaf half vijf\, Samenzang met medewerking van K.V.A. in de St. Jozef
  kerk.\nzie ook het artikel&nbsp\;Kerst in Zuid 2025
DTSTART:20251221T123000Z
DTEND:20251221T163000Z
GEO:00;0
LOCATION:St. Jozef kerk\, Molenstraat 8\, Oss
ORGANIZER;CN=:mailto:info@ws-oss-zuid.nl
SEQUENCE:1
SUMMARY:Kerst in Zuid 2025
TRANSP:OPAQUE
URL:https://www.ws-oss-zuid.nl/activiteiten/kerst-in-zuid-2025
END:VEVENT
END:VCALENDAR
